View In:
ArcGIS JavaScript
ArcGIS Online Map Viewer
ArcGIS Earth
ArcMap
View Footprint In:
ArcGIS Online Map Viewer
Service Description: GOL_PERMIS_EXPLO_GEOTHERMIE
Name: GOL_PERMIS_EXPLO_GEOTHERMIE
Description:
Single Fused Map Cache: false
Extent:
XMin: 2487728.8398448247
YMin: 1110521.32479306
XMax: 2513073.3130936055
YMax: 1130505.26389703
Spatial Reference: 2056
(2056)
Initial Extent:
XMin: 2487728.8398448247
YMin: 1110521.32479306
XMax: 2513073.3130936055
YMax: 1130505.26389703
Spatial Reference: 2056
(2056)
Full Extent:
XMin: 2487728.8398448247
YMin: 1110521.32479306
XMax: 2513073.3130936055
YMax: 1130505.26389703
Spatial Reference: 2056
(2056)
Pixel Size X: 49.989099110021115
Pixel Size Y: 49.9598477599246
Band Count: 1
Pixel Type: F32
RasterFunction Infos: {"rasterFunctionInfos": [{
"name": "None",
"description": "",
"help": ""
}]}
Mensuration Capabilities: Basic
Has Histograms: true
Has Colormap: false
Has Multi Dimensions : false
Rendering Rule:
Min Scale: 0
Max Scale: 0
Copyright Text:
Service Data Type: esriImageServiceDataTypeGeneric
Min Values: -1308.3541259765625
Max Values: 393.3804626464844
Mean Values: -329.38677897504425
Standard Deviation Values: 376.76974764640124
Object ID Field:
Fields:
None
Default Mosaic Method: Center
Allowed Mosaic Methods:
SortField:
SortValue: null
Mosaic Operator: First
Default Compression Quality: 75
Default Resampling Method: Bilinear
Max Record Count: null
Max Image Height: 4100
Max Image Width: 15000
Max Download Image Count: null
Max Mosaic Image Count: null
Allow Raster Function: true
Allow Copy: null
Allow Analysis: null
Allow Compute TiePoints: false
Supports Statistics: false
Supports Advanced Queries: false
Use StandardizedQueries: true
Raster Type Infos:
Name: Raster Dataset
Description: Supports all ArcGIS Raster Datasets
Help:
Has Raster Attribute Table: false
Edit Fields Info: null
Ownership Based AccessControl For Rasters: null
Child Resources:
Info
Histograms
Key Properties
Legend
Raster Function Infos
Supported Operations:
Export Image
Identify
Measure
Compute Histograms
Compute Statistics Histograms
Get Samples
Compute Class Statistics
Query Boundary
Compute Pixel Location
Validate
Project