View In:
ArcGIS JavaScript
ArcGIS Online Map Viewer
ArcGIS Earth
ArcMap
View Footprint In:
ArcGIS Online Map Viewer
Service Description: CONS_ADM_GOL_ALT_TOIT_MOLASSE_DTGE
Name: CONS_ADM_GOL_ALT_TOIT_MOLASSE_DTGE
Description:
Single Fused Map Cache: false
Extent:
XMin: 2480807.44497619
YMin: 1102624.998460585
XMax: 2515886.64476548
YMax: 1145301.8590335448
Spatial Reference: 2056
(2056)
Initial Extent:
XMin: 2480807.44497619
YMin: 1102624.998460585
XMax: 2515886.64476548
YMax: 1145301.8590335448
Spatial Reference: 2056
(2056)
Full Extent:
XMin: 2480807.44497619
YMin: 1102624.998460585
XMax: 2515886.64476548
YMax: 1145301.8590335448
Spatial Reference: 2056
(2056)
Pixel Size X: 9.996922140008508
Pixel Size Y: 9.996922129997602
Band Count: 1
Pixel Type: F32
RasterFunction Infos: {"rasterFunctionInfos": [{
"name": "None",
"description": "",
"help": ""
}]}
Mensuration Capabilities: Basic
Has Histograms: true
Has Colormap: false
Has Multi Dimensions : false
Rendering Rule:
Min Scale: 0
Max Scale: 0
Copyright Text:
Service Data Type: esriImageServiceDataTypeGeneric
Min Values: 198.917724609375
Max Values: 741.701904296875
Mean Values: 407.01963122071214
Standard Deviation Values: 76.51706364505436
Object ID Field:
Fields:
None
Default Mosaic Method: Center
Allowed Mosaic Methods:
SortField:
SortValue: null
Mosaic Operator: First
Default Compression Quality: 75
Default Resampling Method: Bilinear
Max Record Count: null
Max Image Height: 4100
Max Image Width: 15000
Max Download Image Count: null
Max Mosaic Image Count: null
Allow Raster Function: true
Allow Copy: null
Allow Analysis: null
Allow Compute TiePoints: false
Supports Statistics: false
Supports Advanced Queries: false
Use StandardizedQueries: true
Raster Type Infos:
Name: Raster Dataset
Description: Supports all ArcGIS Raster Datasets
Help:
Has Raster Attribute Table: false
Edit Fields Info: null
Ownership Based AccessControl For Rasters: null
Child Resources:
Info
Histograms
Key Properties
Legend
Raster Function Infos
Supported Operations:
Export Image
Identify
Measure
Compute Histograms
Compute Statistics Histograms
Get Samples
Compute Class Statistics
Query Boundary
Compute Pixel Location
Validate
Project