<?xml version="1.0" encoding="UTF-8" standalone="no"?>
<metadata xml:lang="fr">
  <Esri>
    <CreaDate>20200217</CreaDate>
    <CreaTime>09073700</CreaTime>
    <ArcGISFormat>1.0</ArcGISFormat>
    <SyncOnce>FALSE</SyncOnce>
    <DataProperties>
      <itemProps>
        <itemName Sync="TRUE">MNA_TERRAIN_2019</itemName>
        <imsContentType Sync="TRUE">002</imsContentType>
        <nativeExtBox>
          <westBL Sync="TRUE">2484999.995123</westBL>
          <eastBL Sync="TRUE">2513499.995123</eastBL>
          <southBL Sync="TRUE">1109500.033159</southBL>
          <northBL Sync="TRUE">1136000.033159</northBL>
          <exTypeCode Sync="TRUE">1</exTypeCode>
        </nativeExtBox>
      </itemProps>
      <coordRef>
        <type Sync="TRUE">Projected</type>
        <geogcsn Sync="TRUE">GCS_CH1903+</geogcsn>
        <csUnits Sync="TRUE">Linear Unit: Meter (1.000000)</csUnits>
        <projcsn Sync="TRUE">CH1903+_LV95</projcsn>
        <peXml Sync="TRUE">&lt;ProjectedCoordinateSystem xsi:type='typens:ProjectedCoordinateSystem' xmlns:xsi='http://www.w3.org/2001/XMLSchema-instance' xmlns:xs='http://www.w3.org/2001/XMLSchema' xmlns:typens='http://www.esri.com/schemas/ArcGIS/2.2.0'&gt;&lt;WKT&gt;PROJCS[&amp;quot;CH1903+_LV95&amp;quot;,GEOGCS[&amp;quot;GCS_CH1903+&amp;quot;,DATUM[&amp;quot;D_CH1903+&amp;quot;,SPHEROID[&amp;quot;Bessel_1841&amp;quot;,6377397.155,299.1528128]],PRIMEM[&amp;quot;Greenwich&amp;quot;,0.0],UNIT[&amp;quot;Degree&amp;quot;,0.0174532925199433]],PROJECTION[&amp;quot;Hotine_Oblique_Mercator_Azimuth_Center&amp;quot;],PARAMETER[&amp;quot;False_Easting&amp;quot;,2600000.0],PARAMETER[&amp;quot;False_Northing&amp;quot;,1200000.0],PARAMETER[&amp;quot;Scale_Factor&amp;quot;,1.0],PARAMETER[&amp;quot;Azimuth&amp;quot;,90.0],PARAMETER[&amp;quot;Longitude_Of_Center&amp;quot;,7.439583333333333],PARAMETER[&amp;quot;Latitude_Of_Center&amp;quot;,46.95240555555556],UNIT[&amp;quot;Meter&amp;quot;,1.0],AUTHORITY[&amp;quot;EPSG&amp;quot;,2056]]&lt;/WKT&gt;&lt;XOrigin&gt;-27386400&lt;/XOrigin&gt;&lt;YOrigin&gt;-32067900&lt;/YOrigin&gt;&lt;XYScale&gt;140996569.55187955&lt;/XYScale&gt;&lt;ZOrigin&gt;-100000&lt;/ZOrigin&gt;&lt;ZScale&gt;10000&lt;/ZScale&gt;&lt;MOrigin&gt;-100000&lt;/MOrigin&gt;&lt;MScale&gt;10000&lt;/MScale&gt;&lt;XYTolerance&gt;0.001&lt;/XYTolerance&gt;&lt;ZTolerance&gt;0.001&lt;/ZTolerance&gt;&lt;MTolerance&gt;0.001&lt;/MTolerance&gt;&lt;HighPrecision&gt;true&lt;/HighPrecision&gt;&lt;WKID&gt;2056&lt;/WKID&gt;&lt;LatestWKID&gt;2056&lt;/LatestWKID&gt;&lt;/ProjectedCoordinateSystem&gt;</peXml>
      </coordRef>
    </DataProperties>
    <SyncDate>20200225</SyncDate>
    <SyncTime>12045900</SyncTime>
    <ModDate>20200225</ModDate>
    <ModTime>12045900</ModTime>
    <scaleRange>
      <minScale>625000</minScale>
      <maxScale>5000</maxScale>
    </scaleRange>
  </Esri>
  <dataIdInfo>
    <envirDesc Sync="FALSE">Esri ArcGIS 12.2.0.12813</envirDesc>
    <dataLang>
      <languageCode Sync="TRUE" value="fra">
</languageCode>
      <countryCode Sync="TRUE" value="CHE">
</countryCode>
    </dataLang>
    <idCitation>
      <resTitle Sync="TRUE">MNA_TERRAIN_2019</resTitle>
      <presForm>
        <PresFormCd Sync="TRUE" value="011">
</PresFormCd>
      </presForm>
    </idCitation>
    <spatRpType>
      <SpatRepTypCd Sync="TRUE" value="002">
</SpatRepTypCd>
    </spatRpType>
    <dataExt>
      <geoEle>
        <GeoBndBox esriExtentType="search">
          <exTypeCode Sync="FALSE">0</exTypeCode>
          <westBL Sync="TRUE">5.944909</westBL>
          <eastBL Sync="TRUE">6.320187</eastBL>
          <northBL Sync="TRUE">46.371047</northBL>
          <southBL Sync="TRUE">46.128395</southBL>
        </GeoBndBox>
      </geoEle>
    </dataExt>
    <idPurp>Le Modèle Numérique de Terrain (MNT) ou Modèle numérique d'Elévation (MNE) est un modèle tridimensionnel représentant, sous forme numérique, le relief d'une...</idPurp>
    <searchKeys>
      <keyword>Altimétrie - Terrain</keyword>
    </searchKeys>
    <idAbs/>
    <idCredit/>
    <resConst>
      <Consts>
        <useLimit/>
      </Consts>
    </resConst>
  </dataIdInfo>
  <mdLang>
    <languageCode Sync="TRUE" value="fra">
</languageCode>
    <countryCode Sync="TRUE" value="CHE">
</countryCode>
  </mdLang>
  <distInfo>
    <distFormat>
      <formatName Sync="TRUE">Jeu de données raster de géodatabase fichier</formatName>
    </distFormat>
  </distInfo>
  <mdHrLv>
    <ScopeCd Sync="TRUE" value="005">
</ScopeCd>
  </mdHrLv>
  <mdHrLvName Sync="TRUE">dataset</mdHrLvName>
  <refSysInfo>
    <RefSystem>
      <refSysID>
        <identCode Sync="TRUE" code="2056">
</identCode>
        <idCodeSpace Sync="TRUE">EPSG</idCodeSpace>
        <idVersion Sync="TRUE">8.8(8.1.0)</idVersion>
      </refSysID>
    </RefSystem>
  </refSysInfo>
  <spdoinfo>
    <rastinfo>
      <rasttype Sync="TRUE">Pixel</rasttype>
      <rowcount Sync="TRUE">53000</rowcount>
      <colcount Sync="TRUE">57000</colcount>
      <rastxsz Sync="TRUE">0.500000</rastxsz>
      <rastysz Sync="TRUE">0.500000</rastysz>
      <rastbpp Sync="TRUE">32</rastbpp>
      <vrtcount Sync="TRUE">1</vrtcount>
      <rastorig Sync="TRUE">Upper Left</rastorig>
      <rastcmap Sync="TRUE">FALSE</rastcmap>
      <rastcomp Sync="TRUE">LZ77</rastcomp>
      <rastband Sync="TRUE">1</rastband>
      <rastdtyp Sync="TRUE">pixel codes</rastdtyp>
      <rastifor Sync="TRUE">FGDBR</rastifor>
      <rastplyr Sync="TRUE">TRUE</rastplyr>
    </rastinfo>
  </spdoinfo>
  <spref>
    <horizsys>
      <planar>
        <planci>
          <plance Sync="TRUE">row and column</plance>
          <coordrep>
            <absres Sync="TRUE">0.500000</absres>
            <ordres Sync="TRUE">0.500000</ordres>
          </coordrep>
        </planci>
      </planar>
    </horizsys>
  </spref>
  <mdDateSt Sync="TRUE">20200225</mdDateSt>
  </metadata>
