<?xml version="1.0" encoding="UTF-8" standalone="no"?>
<metadata xml:lang="fr">
  <Esri>
    <CreaDate>20200505</CreaDate>
    <CreaTime>15104300</CreaTime>
    <ArcGISFormat>1.0</ArcGISFormat>
    <SyncOnce>FALSE</SyncOnce>
    <DataProperties>
      <itemProps>
        <itemName Sync="TRUE">TOIT_AA</itemName>
        <imsContentType Sync="TRUE">002</imsContentType>
        <nativeExtBox>
          <westBL Sync="TRUE">2483576.592406</westBL>
          <eastBL Sync="TRUE">2510558.285235</eastBL>
          <southBL Sync="TRUE">1108273.259464</southBL>
          <northBL Sync="TRUE">1142752.643890</northBL>
          <exTypeCode Sync="TRUE">1</exTypeCode>
        </nativeExtBox>
      </itemProps>
      <coordRef>
        <type Sync="TRUE">Projected</type>
        <geogcsn Sync="TRUE">GCS_CH1903+</geogcsn>
        <csUnits Sync="TRUE">Linear Unit: Meter (1.000000)</csUnits>
        <projcsn Sync="TRUE">CH1903+_LV95</projcsn>
        <peXml Sync="TRUE">&lt;ProjectedCoordinateSystem xsi:type='typens:ProjectedCoordinateSystem' xmlns:xsi='http://www.w3.org/2001/XMLSchema-instance' xmlns:xs='http://www.w3.org/2001/XMLSchema' xmlns:typens='http://www.esri.com/schemas/ArcGIS/10.1'&gt;&lt;WKT&gt;PROJCS[&amp;quot;CH1903+_LV95&amp;quot;,GEOGCS[&amp;quot;GCS_CH1903+&amp;quot;,DATUM[&amp;quot;D_CH1903+&amp;quot;,SPHEROID[&amp;quot;Bessel_1841&amp;quot;,6377397.155,299.1528128]],PRIMEM[&amp;quot;Greenwich&amp;quot;,0.0],UNIT[&amp;quot;Degree&amp;quot;,0.0174532925199433]],PROJECTION[&amp;quot;Hotine_Oblique_Mercator_Azimuth_Center&amp;quot;],PARAMETER[&amp;quot;false_easting&amp;quot;,2600000.0],PARAMETER[&amp;quot;false_northing&amp;quot;,1200000.0],PARAMETER[&amp;quot;scale_factor&amp;quot;,1.0],PARAMETER[&amp;quot;azimuth&amp;quot;,90.0],PARAMETER[&amp;quot;longitude_of_center&amp;quot;,7.439583333333333],PARAMETER[&amp;quot;latitude_of_center&amp;quot;,46.95240555555556],UNIT[&amp;quot;Meter&amp;quot;,1.0],AUTHORITY[&amp;quot;EPSG&amp;quot;,2056]]&lt;/WKT&gt;&lt;XOrigin&gt;-27386400&lt;/XOrigin&gt;&lt;YOrigin&gt;-32067900&lt;/YOrigin&gt;&lt;XYScale&gt;140996569.55187955&lt;/XYScale&gt;&lt;ZOrigin&gt;-100000&lt;/ZOrigin&gt;&lt;ZScale&gt;10000&lt;/ZScale&gt;&lt;MOrigin&gt;-100000&lt;/MOrigin&gt;&lt;MScale&gt;10000&lt;/MScale&gt;&lt;XYTolerance&gt;0.001&lt;/XYTolerance&gt;&lt;ZTolerance&gt;0.001&lt;/ZTolerance&gt;&lt;MTolerance&gt;0.001&lt;/MTolerance&gt;&lt;HighPrecision&gt;true&lt;/HighPrecision&gt;&lt;WKID&gt;2056&lt;/WKID&gt;&lt;LatestWKID&gt;2056&lt;/LatestWKID&gt;&lt;/ProjectedCoordinateSystem&gt;</peXml>
      </coordRef>
      <RasterProperties>
        <General>
          <PixelDepth Sync="TRUE">32</PixelDepth>
          <HasColormap Sync="TRUE">FALSE</HasColormap>
          <CompressionType Sync="TRUE">LZW</CompressionType>
          <NumBands Sync="TRUE">1</NumBands>
          <Format Sync="TRUE">TIFF</Format>
          <HasPyramids Sync="TRUE">TRUE</HasPyramids>
          <SourceType Sync="TRUE">continuous</SourceType>
          <PixelType Sync="TRUE">floating point</PixelType>
          <NoDataValue Sync="TRUE">0</NoDataValue>
        </General>
      </RasterProperties>
    </DataProperties>
    <SyncDate>20201112</SyncDate>
    <SyncTime>15554700</SyncTime>
    <ModDate>20201112</ModDate>
    <ModTime>15554700</ModTime>
  </Esri>
  <dataIdInfo>
    <envirDesc Sync="TRUE"> Version 6.2 (Build 9200) ; Esri ArcGIS 10.2.1.3497</envirDesc>
    <dataLang>
      <languageCode Sync="TRUE" value="fra">
</languageCode>
      <countryCode Sync="TRUE" value="CHE">
</countryCode>
    </dataLang>
    <idCitation>
      <resTitle Sync="TRUE">TOIT_AA</resTitle>
      <presForm>
        <PresFormCd Sync="TRUE" value="011">
</PresFormCd>
      </presForm>
    </idCitation>
    <spatRpType>
      <SpatRepTypCd Sync="TRUE" value="002">
</SpatRepTypCd>
    </spatRpType>
    <dataExt>
      <geoEle>
        <GeoBndBox esriExtentType="search">
          <exTypeCode Sync="TRUE">1</exTypeCode>
          <westBL Sync="TRUE">5.924718</westBL>
          <eastBL Sync="TRUE">6.282358</eastBL>
          <northBL Sync="TRUE">46.431405</northBL>
          <southBL Sync="TRUE">46.117116</southBL>
        </GeoBndBox>
      </geoEle>
    </dataExt>
    <idAbs/>
    <idPurp/>
    <idCredit/>
    <resConst>
      <Consts>
        <useLimit/>
      </Consts>
    </resConst>
  </dataIdInfo>
  <mdLang>
    <languageCode Sync="TRUE" value="fra">
</languageCode>
    <countryCode Sync="TRUE" value="CHE">
</countryCode>
  </mdLang>
  <mdChar>
    <CharSetCd Sync="TRUE" value="004">
</CharSetCd>
  </mdChar>
  <distInfo>
    <distFormat>
      <formatName Sync="TRUE">Jeu de données raster de géodatabase fichier</formatName>
    </distFormat>
  </distInfo>
  <mdHrLv>
    <ScopeCd Sync="TRUE" value="005">
</ScopeCd>
  </mdHrLv>
  <mdHrLvName Sync="TRUE">dataset</mdHrLvName>
  <refSysInfo>
    <RefSystem>
      <refSysID>
        <identCode Sync="TRUE" code="2056">
</identCode>
        <idCodeSpace Sync="TRUE">EPSG</idCodeSpace>
        <idVersion Sync="TRUE">8.2.6</idVersion>
      </refSysID>
    </RefSystem>
  </refSysInfo>
  <spatRepInfo>
    <Georect>
      <cellGeo>
        <CellGeoCd Sync="TRUE" value="002">
</CellGeoCd>
      </cellGeo>
      <numDims Sync="TRUE">2</numDims>
      <tranParaAv Sync="TRUE">1</tranParaAv>
      <chkPtAv Sync="TRUE">0</chkPtAv>
      <cornerPts>
        <pos Sync="TRUE">2483576.592406 1108273.259464</pos>
      </cornerPts>
      <cornerPts>
        <pos Sync="TRUE">2483576.592406 1142752.643890</pos>
      </cornerPts>
      <cornerPts>
        <pos Sync="TRUE">2510558.285235 1142752.643890</pos>
      </cornerPts>
      <cornerPts>
        <pos Sync="TRUE">2510558.285235 1108273.259464</pos>
      </cornerPts>
      <centerPt>
        <pos Sync="TRUE">2497067.438820 1125512.951677</pos>
      </centerPt>
      <axisDimension type="002">
        <dimSize Sync="TRUE">2699</dimSize>
        <dimResol>
          <value Sync="TRUE" uom="Meter">9.996922</value>
        </dimResol>
      </axisDimension>
      <axisDimension type="001">
        <dimSize Sync="TRUE">3449</dimSize>
        <dimResol>
          <value Sync="TRUE" uom="Meter">9.996922</value>
        </dimResol>
      </axisDimension>
      <ptInPixel>
        <PixOrientCd Sync="TRUE" value="001">
</PixOrientCd>
      </ptInPixel>
    </Georect>
  </spatRepInfo>
  <contInfo>
    <ImgDesc>
      <contentTyp>
        <ContentTypCd Sync="TRUE" value="001">
</ContentTypCd>
      </contentTyp>
      <covDim>
        <Band>
          <dimDescrp Sync="TRUE">Band_1</dimDescrp>
          <bitsPerVal Sync="TRUE">32</bitsPerVal>
          <valUnit>
            <UOM type="length">
</UOM>
          </valUnit>
        </Band>
      </covDim>
    </ImgDesc>
  </contInfo>
  <mdDateSt Sync="TRUE">20201112</mdDateSt>
  <spdoinfo>
    <rastinfo>
      <rasttype Sync="TRUE">Pixel</rasttype>
      <rowcount Sync="TRUE">3449</rowcount>
      <colcount Sync="TRUE">2699</colcount>
      <rastxsz Sync="TRUE">9.996922</rastxsz>
      <rastysz Sync="TRUE">9.996922</rastysz>
      <rastbpp Sync="TRUE">32</rastbpp>
      <vrtcount Sync="TRUE">1</vrtcount>
      <rastorig Sync="TRUE">Upper Left</rastorig>
      <rastcmap Sync="TRUE">FALSE</rastcmap>
      <rastcomp Sync="TRUE">LZ77</rastcomp>
      <rastband Sync="TRUE">1</rastband>
      <rastdtyp Sync="TRUE">pixel codes</rastdtyp>
      <rastifor Sync="TRUE">FGDBR</rastifor>
      <rastplyr Sync="TRUE">TRUE</rastplyr>
    </rastinfo>
  </spdoinfo>
  <spref>
    <horizsys>
      <planar>
        <planci>
          <plance Sync="TRUE">row and column</plance>
          <coordrep>
            <absres Sync="TRUE">9.996922</absres>
            <ordres Sync="TRUE">9.996922</ordres>
          </coordrep>
        </planci>
      </planar>
    </horizsys>
  </spref>
  </metadata>
