View In:
ArcGIS JavaScript
ArcGIS Online Map Viewer
ArcGIS Earth
ArcMap
View Footprint In:
ArcGIS Online Map Viewer
Service Description: RASTER/ORTHOPHOTOS_COLLECTION
Name: RASTER/ORTHOPHOTOS_COLLECTION
Description:
Single Fused Map Cache: false
Extent:
XMin: 2463999.995122531
YMin: 1086999.9831590988
XMax: 2539000.0451225257
YMax: 1157999.983159094
Spatial Reference: 2056
(2056)
Initial Extent:
XMin: 2463999.995122531
YMin: 1086999.9831590988
XMax: 2539000.0451225257
YMax: 1157999.983159094
Spatial Reference: 2056
(2056)
Full Extent:
XMin: 2463999.995122531
YMin: 1086999.9831590988
XMax: 2539000.0451225257
YMax: 1157999.983159094
Spatial Reference: 2056
(2056)
Time Info:
Start Time Field: DEBUT
End Time Field: FIN
Time Extent:
[1932/01/01 00:00:00 UTC, 2020/01/01 00:00:00 UTC]
Time Reference:
N/A
Pixel Size X: 0.049999999999996464
Pixel Size Y: 0.049999999999996554
Band Count: 4
Pixel Type: U8
RasterFunction Infos: {"name":"None","description":"A No-Op Function.","help":""}
Mensuration Capabilities:
Has Histograms: true
Has Colormap: false
Has Multi Dimensions : false
Rendering Rule:
Min Scale: 0
Max Scale: 0
Copyright Text:
Service Data Type: esriImageServiceDataTypeGeneric
Min Values: 0, 0, 0, 0
Max Values: 255, 255, 255, 255
Mean Values: 80.89317852427386, 85.0157920289219, 72.21482175519937, 72.21482175519937
Standard Deviation Values: 48.70082726559598, 45.08429666815076, 39.38353380808303, 39.38353380808303
Object ID Field: OBJECTID
Fields:
-
OBJECTID
(
type: esriFieldTypeOID
, alias: OBJECTID
)
-
Shape
(
type: esriFieldTypeGeometry
, alias: Shape
)
-
Name
(
type: esriFieldTypeString
, alias: Name
, length: 200
)
-
Category
(
type: esriFieldTypeInteger
, alias: Category
, Coded Values:
[0: Unknown]
, [1: Primary]
, [2: Overview]
, ...6 more...
)
-
DEBUT
(
type: esriFieldTypeInteger
, alias: DEBUT
)
-
FIN
(
type: esriFieldTypeInteger
, alias: FIN
)
Default Mosaic Method: ByAttribute
Allowed Mosaic Methods: ByAttribute,None
SortField: DEBUT
SortValue: 0
Mosaic Operator: Last
Default Compression Quality: 75
Default Resampling Method: Bilinear
Max Record Count: 1000
Max Image Height: 15000
Max Image Width: 15000
Max Download Image Count: 20
Max Mosaic Image Count: 20
Allow Raster Function: true
Allow Compute TiePoints: false
Supports Statistics: true
Supports Advanced Queries: true
Use StandardizedQueries: true
Raster Type Infos:
Name: WMS
Description: Allows a WMS (Web Map Service) layer to be consumed as a raster dataset.
Help:
Name: Raster Dataset
Description: Supports all ArcGIS Raster Datasets
Help:
Has Raster Attribute Table: false
Edit Fields Info: null
Ownership Based AccessControl For Rasters: null
Child Resources:
Info
Histograms
Key Properties
Legend
MultiDimensionalInfo
rasterFunctionInfos
Supported Operations:
Export Image
Query
Identify
Compute Histograms
Compute Statistics Histograms
Get Samples
Compute Class Statistics
Query Boundary